Workbook

Sheet 別紙様式２－１
K1: 別紙様式2－１ 所要額調書（全体）
I2: (申請者名 | L2: )
C4: 種 目 | D4: 区 分
E5: 総事業費 | F5: 寄附金 その他の 収入額 | G5: 差引事業費 （Ａ－Ｂ） | H5: 対象経費の 支出予定額 | K5: 補助所要額
I6: 基準額 | J6: 選定額
E9: (A) | F9: (B) | G9: (C) | H9: （D） | I9: （E） | J9: （F） | K9: (G)
C10: 介護人材資質向上事業 | D10: 研修受講料助成 | E10: 円 | F10: 円 | G10: 円 | H10: 円 | I10: 円 | J10: 円 | K10: 円
E11: ='別紙様式２－３'!B16 -> 0 | F11: ='別紙様式２－３'!C16 -> 0 | G11: ='別紙様式２－３'!D16 -> 0 | H11: =E11 -> 0 | I11: ='別紙様式２－３'!E16 -> 0 | J11: =IF(E11="","",MIN(H11,I11)) -> 0 | K11: =IF(E11="","",MIN(G11,J11)) -> 0
C12: 介護支援専門員業務負担軽減支援事業 | D12: ア 事業所内のタスクシフト支援 | E12: ='別紙様式２－２'!H93 -> 0 | G12: =IF(E12="","",E12-F12) -> 0 | H12: =E12 -> 0 | J12: =IF(E12="","",MIN(H12,I12)) -> 0 | K12: =IF(E12="","",MIN(G12,J12)) -> 0
D13: イ 居宅訪問時の同行支援 | E13: ='別紙様式２－２'!H101 -> 0 | G13: =IF(E13="","",E13-F13) -> 0 | H13: =E13 -> 0 | J13: =IF(E13="","",MIN(H13,I13)) -> 0 | K13: =IF(E13="","",MIN(G13,J13)) -> 0
C14: 居宅介護支援事業所等経営改善支援事業 | D14: ア 経営改善の支援 | E14: ='別紙様式２－２'!H109 -> 0 | G14: =IF(E14="","",E14-F14) -> 0 | H14: =E14 -> 0 | J14: =IF(E14="","",MIN(H14,I14)) -> 0 | K14: =IF(E14="","",MIN(G14,J14)) -> 0
D15: イ 利用者確保等のための広報活動に関する支援 | E15: ='別紙様式２－２'!H117 -> 0 | G15: =IF(E15="","",E15-F15) -> 0 | H15: =E15 -> 0 | J15: =IF(E15="","",MIN(H15,I15)) -> 0 | K15: =IF(E15="","",MIN(G15,J15)) -> 0
C16: 合計 | E16: =SUM(E11:E15) -> 0 | F16: =SUM(F11:F15) -> 0 | G16: =SUM(G11:G15) -> 0 | H16: =SUM(H11:H15) -> 0 | I16: =SUM(I11:I15) -> 0 | J16: =SUM(J11:J15) -> 0 | K16: =SUM(K11:K15) -> 0
C18: （注）E欄「基準額」には、交付要綱別表第３の欄に定める補助金の額を記入してください。

Sheet 別紙様式２－２
W1: 別紙様式２－２
A4: 事業計画書（事業別一覧）
A5: 1 | B5: 申請者
B6: 事業者名（法人名）
B7: 事業者所在地
B8: 申請事務担当者
B9: 連絡先 | G9: 電 話： | Q9: ＦＡＸ：
G10: メール： | Q10: 担当者：
A14: 2 | B14: 事業内容（申請する事業に☑してください）
C16: （１）介護人材資質向上事業
D17: 実施予定の事業概要
D18: 事業実施予定期間 | N18: 年 月 日 ～ 年 月 日
D19: 事業の目標（実施回数等）
D20: 【添付書類】
E21: 1 | F21: 受講する研修の実施日及び受講料を確認できる書類
E22: 2 | F22: 雇用証明書等の研修受講者が市内の事業所で勤務することを証する書類
C28: （２）介護支援専門員業務負担軽減支援事業 | O28: 事業所名
O29: 事業所名（複数事業所で事業実施の場合のみ、右欄も記入）
D30: ア 事業所内のタスクシフト支援
D31: 実施予定の事業概要
D32: 事業実施予定期間 | N32: 年 月 日 ～ 年 月 日
D33: 事業の目標（実施回数等）
D34: 【添付書類】
E35: 1 | F35: 事業内容が分かる資料（採用活動計画、募集チラシ及び研修計画・カリキュラム等）
E36: 2 | F36: 経費の内容や金額が分かる資料（見積書、価格や内容が掲載されているカタログ等）
W40: 別紙様式２－２
D42: イ 居宅訪問時の同行支援 | O42: 事業所名
O43: 事業所名（複数事業所で事業実施の場合のみ、右欄も記入）
D45: NO. | E45: 同行担当者の 氏名 | K45: 同行回数
K46: 30分未満 | Q46: 30分以上 | U46: 合計
D47: 1 | P47: 回 | T47: 回 | W47: 回
D48: 2 | P48: 回 | T48: 回 | W48: 回
D49: 3 | P49: 回 | T49: 回 | W49: 回
D50: 4 | P50: 回 | T50: 回 | W50: 回
D51: 5 | P51: 回 | T51: 回 | W51: 回
D52: 【添付書類】
E53: 1 | F53: 対象職員が記載された職員名簿（任意様式）
E54: 2 | F54: 事業内容が分かる資料（勤務予定表、研修計画等）
E55: 3 | F55: 経費の内容や金額が分かる資料 | AA55: =SUM(#REF!) -> #REF!
C58: （３）居宅介護支援事業所等経営改善支援事業 | O58: 事業所名
...

Sheet 別紙様式２－３
G1: 別紙様式２－３
A3: 介護人材資質向上事業（所要額調書）
E5: 事業者名
A8: 研修の名称 | B8: 総事業費 （事業者負担額） | C8: その他の収入額 | D8: 対象経費の支出額 （差引額） | E8: 基準額 （4万円×受講料を負担した従業者数） | F8: 補助所要額 ※Ｅ欄の全合計は、 1,000円未満切り捨て | G8: 備考
B9: A 円 | C9: B 円 | D9: C (A-B) 円 | E9: D 円 | F9: E 円
D10: =B10-C10 -> 0 | E10: =40000*F18 -> 0 | F10: =MIN(D16,E16) -> 0
D11: =B11-C11 -> 0
D12: =B12-C12 -> 0
D13: =B13-C13 -> 0
D14: =B14-C14 -> 0
D15: =B15-C15 -> 0
A16: 合 計 | B16: =SUM(B10:B15) -> 0 | C16: =SUM(C10:C15) -> 0 | D16: =SUM(D10:D15) -> 0 | E16: =SUM(E10:E15) -> 0 | F16: =ROUNDDOWN(SUM(F10:F15),-3) -> 0
A17: （注）１「総事業費」Ａ欄は、補助対象事業者が当該研修において、負担又は補助した額を記入する。
A18: ２「その他の収入額」Ｂ欄は、寄附金等の収入がある場合は記入する。 | E18: 受講人数
E20: 補助所要額合計 | F20: =+F16 -> 0

Sheet 別紙様式２－４
J1: 別紙様式２－４
A3: 介護人材資質向上事業（受講予定者名簿）
A5: 当補助金の対象となる研修に係る費用について、当補助事業以外の補助事業、貸付金事業及び給付金等を受けていないこと及び今後も受けないことを確認し、以下のとおり研修を受講します。
G6: 事業者名：
A8: 連番 | B8: 研修の名称 | C8: 受講者 氏名 | D8: 受講者の和暦生年月日 | E8: 職種 | F8: 雇用形態 | G8: 勤務事業所名 | H8: 勤務開始日 ※和暦年月日 | I8: 研修修了予定日 （証明書等の発行日） ※和暦年月日 | J8: ①研修受講料（円） | K8: ②事業者負担予定金額（円）
A9: 1
A10: 2
A11: 3
A12: 4
A13: 5
A14: 6
A15: 7
A16: 8
A17: 9
A18: 10
I19: 合計 | J19: =SUM(J9:J18) -> 0 | K19: =SUM(K9:K18) -> 0
